Package: demuxSNP Version: 1.4.0 Command: F:\biocbuild\bbs-3.20-bioc\R\bin\R.exe CMD INSTALL demuxSNP StartedAt: 2025-01-30 16:16:57 -0500 (Thu, 30 Jan 2025) EndedAt: 2025-01-30 16:17:48 -0500 (Thu, 30 Jan 2025) EllapsedTime: 51.8 seconds RetCode: 0 Status: OK