Package: demuxSNP Version: 1.4.0 Command: rm -rf demuxSNP.buildbin-libdir && mkdir demuxSNP.buildbin-libdir && /Users/biocbuild/BBS/utils/build-universal.sh demuxSNP_1.4.0.tar.gz /Library/Frameworks/R.framework/Resources/bin/R demuxSNP.buildbin-libdir StartedAt: 2025-01-31 12:40:26 -0500 (Fri, 31 Jan 2025) EndedAt: 2025-01-31 12:42:01 -0500 (Fri, 31 Jan 2025) EllapsedTime: 94.9 seconds RetCode: 0 Status: OK PackageFile: demuxSNP_1.4.0.tgz PackageFileSize: 1.966 MiB