Package: decoupleR Version: 2.12.0 Command: /home/biocbuild/bbs-3.20-bioc/R/bin/R CMD INSTALL decoupleR StartedAt: 2025-01-30 15:20:57 -0500 (Thu, 30 Jan 2025) EndedAt: 2025-01-30 15:21:05 -0500 (Thu, 30 Jan 2025) EllapsedTime: 7.9 seconds RetCode: 0 Status: OK