Package: dcanr Version: 1.22.0 Command: /home/biocbuild/bbs-3.20-bioc/R/bin/R CMD check --install=check:dcanr.install-out.txt --library=/home/biocbuild/bbs-3.20-bioc/R/site-library --timings dcanr_1.22.0.tar.gz StartedAt: 2025-01-30 21:23:25 -0500 (Thu, 30 Jan 2025) EndedAt: 2025-01-30 21:25:03 -0500 (Thu, 30 Jan 2025) EllapsedTime: 98.0 seconds RetCode: 0 Status: OK CheckDir: dcanr.Rcheck Warnings: 0