Package: dcanr Version: 1.22.0 Command: /Library/Frameworks/R.framework/Resources/bin/R CMD check --install=check:dcanr.install-out.txt --library=/Library/Frameworks/R.framework/Resources/library --no-vignettes --timings dcanr_1.22.0.tar.gz StartedAt: 2025-01-31 16:49:41 -0500 (Fri, 31 Jan 2025) EndedAt: 2025-01-31 16:50:48 -0500 (Fri, 31 Jan 2025) EllapsedTime: 67.6 seconds RetCode: 0 Status: OK CheckDir: dcanr.Rcheck Warnings: 0