Package: dcGSA Version: 1.34.0 Command: /Library/Frameworks/R.framework/Resources/bin/R CMD check --install=check:dcGSA.install-out.txt --library=/Library/Frameworks/R.framework/Resources/library --no-vignettes --timings dcGSA_1.34.0.tar.gz StartedAt: 2025-01-31 02:36:39 -0500 (Fri, 31 Jan 2025) EndedAt: 2025-01-31 02:38:16 -0500 (Fri, 31 Jan 2025) EllapsedTime: 97.2 seconds RetCode: 0 Status: WARNINGS CheckDir: dcGSA.Rcheck Warnings: 1