Package: dcGSA Version: 1.34.0 Command: rm -rf dcGSA.buildbin-libdir && mkdir dcGSA.buildbin-libdir && /Users/biocbuild/BBS/utils/build-universal.sh dcGSA_1.34.0.tar.gz /Library/Frameworks/R.framework/Resources/bin/R dcGSA.buildbin-libdir StartedAt: 2025-01-31 12:38:49 -0500 (Fri, 31 Jan 2025) EndedAt: 2025-01-31 12:39:01 -0500 (Fri, 31 Jan 2025) EllapsedTime: 11.8 seconds RetCode: 0 Status: OK PackageFile: dcGSA_1.34.0.tgz PackageFileSize: 51.38 KiB