Package: daMA Version: 1.78.0 Command: /Library/Frameworks/R.framework/Resources/bin/R CMD check --install=check:daMA.install-out.txt --library=/Library/Frameworks/R.framework/Resources/library --no-vignettes --timings daMA_1.78.0.tar.gz StartedAt: 2025-01-31 02:33:50 -0500 (Fri, 31 Jan 2025) EndedAt: 2025-01-31 02:34:45 -0500 (Fri, 31 Jan 2025) EllapsedTime: 54.5 seconds RetCode: 0 Status: OK CheckDir: daMA.Rcheck Warnings: 0