Package: cytoviewer Version: 1.6.0 Command: F:\biocbuild\bbs-3.20-bioc\R\bin\R.exe CMD INSTALL cytoviewer StartedAt: 2025-01-30 16:28:14 -0500 (Thu, 30 Jan 2025) EndedAt: 2025-01-30 16:29:05 -0500 (Thu, 30 Jan 2025) EllapsedTime: 51.0 seconds RetCode: 0 Status: OK