Package: cytoviewer Version: 1.6.0 Command: /Library/Frameworks/R.framework/Resources/bin/R CMD INSTALL cytoviewer StartedAt: 2025-01-30 16:15:28 -0500 (Thu, 30 Jan 2025) EndedAt: 2025-01-30 16:17:13 -0500 (Thu, 30 Jan 2025) EllapsedTime: 105.8 seconds RetCode: 0 Status: OK