Package: cytoviewer Version: 1.6.0 Command: rm -rf cytoviewer.buildbin-libdir && mkdir cytoviewer.buildbin-libdir && /Users/biocbuild/BBS/utils/build-universal.sh cytoviewer_1.6.0.tar.gz /Library/Frameworks/R.framework/Resources/bin/R cytoviewer.buildbin-libdir StartedAt: 2025-01-31 12:38:20 -0500 (Fri, 31 Jan 2025) EndedAt: 2025-01-31 12:40:11 -0500 (Fri, 31 Jan 2025) EllapsedTime: 110.6 seconds RetCode: 0 Status: OK PackageFile: cytoviewer_1.6.0.tgz PackageFileSize: 4.875 MiB