Package: cytolib Version: 2.18.2 Command: chmod a+r cytolib -R && F:\biocbuild\bbs-3.20-bioc\R\bin\R.exe CMD build --keep-empty-dirs --no-resave-data cytolib StartedAt: 2025-01-30 18:14:08 -0500 (Thu, 30 Jan 2025) EndedAt: 2025-01-30 18:19:20 -0500 (Thu, 30 Jan 2025) EllapsedTime: 312.2 seconds RetCode: 1 Status: ERROR PackageFile: None PackageFileSize: NA