Package: cytolib Version: 2.18.2 Command: rm -rf cytolib.buildbin-libdir && mkdir cytolib.buildbin-libdir && F:\biocbuild\bbs-3.20-bioc\R\bin\R.exe CMD INSTALL --build --library=cytolib.buildbin-libdir cytolib_2.18.2.tar.gz StartedAt: 2025-01-24 08:13:53 -0500 (Fri, 24 Jan 2025) EndedAt: 2025-01-24 08:20:29 -0500 (Fri, 24 Jan 2025) EllapsedTime: 396.0 seconds RetCode: 0 Status: OK PackageFile: cytolib_2.18.2.zip PackageFileSize: 4.89 MiB