Package: cycle Version: 1.60.0 Command: /home/biocbuild/R/R/bin/R CMD check --install=check:cycle.install-out.txt --library=/home/biocbuild/R/R/site-library --no-vignettes --timings cycle_1.60.0.tar.gz StartedAt: 2025-01-31 05:22:35 -0000 (Fri, 31 Jan 2025) EndedAt: 2025-01-31 05:23:03 -0000 (Fri, 31 Jan 2025) EllapsedTime: 28.0 seconds RetCode: 0 Status: WARNINGS CheckDir: cycle.Rcheck Warnings: 1