Package: customCMPdb Version: 1.16.0 Command: /Library/Frameworks/R.framework/Resources/bin/R CMD build --keep-empty-dirs --no-resave-data customCMPdb StartedAt: 2025-01-30 18:19:14 -0500 (Thu, 30 Jan 2025) EndedAt: 2025-01-30 18:23:23 -0500 (Thu, 30 Jan 2025) EllapsedTime: 249.0 seconds RetCode: 0 Status: OK PackageFile: customCMPdb_1.16.0.tar.gz PackageFileSize: 693.9 KiB