Package: csaw Version: 1.40.0 Command: /Library/Frameworks/R.framework/Resources/bin/R CMD check --install=check:csaw.install-out.txt --library=/Library/Frameworks/R.framework/Resources/library --no-vignettes --timings csaw_1.40.0.tar.gz StartedAt: 2025-01-31 02:18:23 -0500 (Fri, 31 Jan 2025) EndedAt: 2025-01-31 02:36:25 -0500 (Fri, 31 Jan 2025) EllapsedTime: 1082.7 seconds RetCode: 0 Status: WARNINGS CheckDir: csaw.Rcheck Warnings: 1