Package: crossmeta Version: 1.32.0 Command: /home/biocbuild/R/R/bin/R CMD INSTALL crossmeta StartedAt: 2025-01-30 20:51:08 -0000 (Thu, 30 Jan 2025) EndedAt: 2025-01-30 20:51:22 -0000 (Thu, 30 Jan 2025) EllapsedTime: 14.7 seconds RetCode: 0 Status: OK