Package: crossmeta Version: 1.32.0 Command: /home/biocbuild/bbs-3.20-bioc/R/bin/R CMD INSTALL crossmeta StartedAt: 2025-01-30 15:44:25 -0500 (Thu, 30 Jan 2025) EndedAt: 2025-01-30 15:44:39 -0500 (Thu, 30 Jan 2025) EllapsedTime: 14.3 seconds RetCode: 0 Status: OK