Package: crisprViz Version: 1.8.0 Command: /home/biocbuild/R/R/bin/R CMD check --install=check:crisprViz.install-out.txt --library=/home/biocbuild/R/R/site-library --no-vignettes --timings crisprViz_1.8.0.tar.gz StartedAt: 2025-01-31 05:17:13 -0000 (Fri, 31 Jan 2025) EndedAt: 2025-01-31 05:25:51 -0000 (Fri, 31 Jan 2025) EllapsedTime: 518.4 seconds RetCode: 0 Status: OK CheckDir: crisprViz.Rcheck Warnings: 0