Package: crisprViz Version: 1.8.0 Command: /home/biocbuild/bbs-3.20-bioc/R/bin/R CMD INSTALL crisprViz StartedAt: 2025-01-30 15:35:21 -0500 (Thu, 30 Jan 2025) EndedAt: 2025-01-30 15:36:26 -0500 (Thu, 30 Jan 2025) EllapsedTime: 64.7 seconds RetCode: 0 Status: OK