Package: crisprVerse Version: 1.8.0 Command: F:\biocbuild\bbs-3.20-bioc\R\bin\R.exe CMD check --no-multiarch --install=check:crisprVerse.install-out.txt --library=F:\biocbuild\bbs-3.20-bioc\R\library --no-vignettes --timings crisprVerse_1.8.0.tar.gz StartedAt: 2025-01-31 00:56:34 -0500 (Fri, 31 Jan 2025) EndedAt: 2025-01-31 01:03:29 -0500 (Fri, 31 Jan 2025) EllapsedTime: 415.2 seconds RetCode: 0 Status: OK CheckDir: crisprVerse.Rcheck Warnings: 0