Package: crisprBowtie Version: 1.10.0 Command: /Library/Frameworks/R.framework/Resources/bin/R CMD check --install=check:crisprBowtie.install-out.txt --library=/Library/Frameworks/R.framework/Resources/library --no-vignettes --timings crisprBowtie_1.10.0.tar.gz StartedAt: 2025-01-31 15:50:01 -0500 (Fri, 31 Jan 2025) EndedAt: 2025-01-31 15:54:31 -0500 (Fri, 31 Jan 2025) EllapsedTime: 270.5 seconds RetCode: 0 Status: OK CheckDir: crisprBowtie.Rcheck Warnings: 0