Package: coseq Version: 1.30.0 Command: F:\biocbuild\bbs-3.20-bioc\R\bin\R.exe CMD check --no-multiarch --install=check:coseq.install-out.txt --library=F:\biocbuild\bbs-3.20-bioc\R\library --no-vignettes --timings coseq_1.30.0.tar.gz StartedAt: 2025-01-31 00:51:40 -0500 (Fri, 31 Jan 2025) EndedAt: 2025-01-31 00:56:38 -0500 (Fri, 31 Jan 2025) EllapsedTime: 298.5 seconds RetCode: 0 Status: OK CheckDir: coseq.Rcheck Warnings: 0