Package: coseq Version: 1.30.0 Command: rm -rf coseq.buildbin-libdir && mkdir coseq.buildbin-libdir && F:\biocbuild\bbs-3.20-bioc\R\bin\R.exe CMD INSTALL --build --library=coseq.buildbin-libdir coseq_1.30.0.tar.gz StartedAt: 2025-01-31 08:26:43 -0500 (Fri, 31 Jan 2025) EndedAt: 2025-01-31 08:27:26 -0500 (Fri, 31 Jan 2025) EllapsedTime: 43.6 seconds RetCode: 0 Status: OK PackageFile: coseq_1.30.0.zip PackageFileSize: 1.399 MiB