Package: coseq Version: 1.30.0 Command: /home/biocbuild/bbs-3.20-bioc/R/bin/R CMD INSTALL coseq StartedAt: 2025-01-30 15:41:10 -0500 (Thu, 30 Jan 2025) EndedAt: 2025-01-30 15:41:47 -0500 (Thu, 30 Jan 2025) EllapsedTime: 37.4 seconds RetCode: 0 Status: OK