Package: coseq Version: 1.30.0 Command: /Library/Frameworks/R.framework/Resources/bin/R CMD build --keep-empty-dirs --no-resave-data coseq StartedAt: 2025-01-30 21:32:07 -0500 (Thu, 30 Jan 2025) EndedAt: 2025-01-30 21:36:49 -0500 (Thu, 30 Jan 2025) EllapsedTime: 281.1 seconds RetCode: 0 Status: OK PackageFile: coseq_1.30.0.tar.gz PackageFileSize: 1.886 MiB