Package: convert Version: 1.82.0 Command: F:\biocbuild\bbs-3.20-bioc\R\bin\R.exe CMD check --no-multiarch --install=check:convert.install-out.txt --library=F:\biocbuild\bbs-3.20-bioc\R\library --no-vignettes --timings convert_1.82.0.tar.gz StartedAt: 2025-01-31 00:49:11 -0500 (Fri, 31 Jan 2025) EndedAt: 2025-01-31 00:49:51 -0500 (Fri, 31 Jan 2025) EllapsedTime: 40.0 seconds RetCode: 0 Status: OK CheckDir: convert.Rcheck Warnings: 0