Package: conumee Version: 1.40.0 Command: /Library/Frameworks/R.framework/Resources/bin/R CMD INSTALL conumee StartedAt: 2025-01-30 16:40:17 -0500 (Thu, 30 Jan 2025) EndedAt: 2025-01-30 16:45:45 -0500 (Thu, 30 Jan 2025) EllapsedTime: 327.3 seconds RetCode: 0 Status: OK