Package: conumee Version: 1.40.0 Command: /Library/Frameworks/R.framework/Resources/bin/R CMD check --install=check:conumee.install-out.txt --library=/Library/Frameworks/R.framework/Resources/library --no-vignettes --timings conumee_1.40.0.tar.gz StartedAt: 2025-01-31 02:04:19 -0500 (Fri, 31 Jan 2025) EndedAt: 2025-01-31 02:44:20 -0500 (Fri, 31 Jan 2025) EllapsedTime: 2400.7 seconds RetCode: None Status: TIMEOUT CheckDir: conumee.Rcheck Warnings: NA