Package: conumee Version: 1.40.0 Command: rm -rf conumee.buildbin-libdir && mkdir conumee.buildbin-libdir && /Users/biocbuild/BBS/utils/build-universal.sh conumee_1.40.0.tar.gz /Library/Frameworks/R.framework/Resources/bin/R conumee.buildbin-libdir StartedAt: 2025-01-31 12:35:06 -0500 (Fri, 31 Jan 2025) EndedAt: 2025-01-31 12:40:36 -0500 (Fri, 31 Jan 2025) EllapsedTime: 330.9 seconds RetCode: 0 Status: OK PackageFile: conumee_1.40.0.tgz PackageFileSize: 2.124 MiB