Package: conumee Version: 1.40.0 Command: /Library/Frameworks/R.framework/Resources/bin/R CMD build --keep-empty-dirs --no-resave-data conumee StartedAt: 2025-01-30 21:29:52 -0500 (Thu, 30 Jan 2025) EndedAt: 2025-01-30 21:39:45 -0500 (Thu, 30 Jan 2025) EllapsedTime: 593.4 seconds RetCode: 0 Status: OK PackageFile: conumee_1.40.0.tar.gz PackageFileSize: 1.782 MiB