Package: consensus Version: 1.24.0 Command: /home/biocbuild/R/R/bin/R CMD INSTALL consensus StartedAt: 2025-01-30 20:10:17 -0000 (Thu, 30 Jan 2025) EndedAt: 2025-01-30 20:10:29 -0000 (Thu, 30 Jan 2025) EllapsedTime: 11.8 seconds RetCode: 0 Status: OK