Package: consensus Version: 1.24.0 Command: chmod a+r consensus -R && F:\biocbuild\bbs-3.20-bioc\R\bin\R.exe CMD build --keep-empty-dirs --no-resave-data consensus StartedAt: 2025-01-30 18:05:50 -0500 (Thu, 30 Jan 2025) EndedAt: 2025-01-30 18:06:07 -0500 (Thu, 30 Jan 2025) EllapsedTime: 17.0 seconds RetCode: 0 Status: OK PackageFile: consensus_1.24.0.tar.gz PackageFileSize: 972.1 KiB