Package: comapr Version: 1.10.0 Command: /home/biocbuild/R/R/bin/R CMD check --install=check:comapr.install-out.txt --library=/home/biocbuild/R/R/site-library --no-vignettes --timings comapr_1.10.0.tar.gz StartedAt: 2025-01-31 05:06:00 -0000 (Fri, 31 Jan 2025) EndedAt: 2025-01-31 05:13:45 -0000 (Fri, 31 Jan 2025) EllapsedTime: 465.4 seconds RetCode: 1 Status: ERROR CheckDir: comapr.Rcheck Warnings: NA