Package: comapr Version: 1.10.0 Command: /Library/Frameworks/R.framework/Resources/bin/R CMD build --keep-empty-dirs --no-resave-data comapr StartedAt: 2025-01-30 18:06:38 -0500 (Thu, 30 Jan 2025) EndedAt: 2025-01-30 18:09:44 -0500 (Thu, 30 Jan 2025) EllapsedTime: 186.2 seconds RetCode: 0 Status: OK PackageFile: comapr_1.10.0.tar.gz PackageFileSize: 972.5 KiB