Package: coRdon Version: 1.24.0 Command: /Library/Frameworks/R.framework/Resources/bin/R CMD build --keep-empty-dirs --no-resave-data coRdon StartedAt: 2025-01-30 21:30:59 -0500 (Thu, 30 Jan 2025) EndedAt: 2025-01-30 21:31:56 -0500 (Thu, 30 Jan 2025) EllapsedTime: 57.0 seconds RetCode: 0 Status: OK PackageFile: coRdon_1.24.0.tar.gz PackageFileSize: 2.365 MiB