Package: coMET Version: 1.38.0 Command: chmod a+r coMET -R && F:\biocbuild\bbs-3.20-bioc\R\bin\R.exe CMD build --keep-empty-dirs --no-resave-data coMET StartedAt: 2025-01-30 18:04:05 -0500 (Thu, 30 Jan 2025) EndedAt: 2025-01-30 18:07:29 -0500 (Thu, 30 Jan 2025) EllapsedTime: 203.9 seconds RetCode: 0 Status: OK PackageFile: coMET_1.38.0.tar.gz PackageFileSize: 21.84 MiB