Package: coMET Version: 1.38.0 Command: /Library/Frameworks/R.framework/Resources/bin/R CMD INSTALL coMET StartedAt: 2025-01-30 16:46:04 -0500 (Thu, 30 Jan 2025) EndedAt: 2025-01-30 16:47:10 -0500 (Thu, 30 Jan 2025) EllapsedTime: 65.8 seconds RetCode: 0 Status: OK