Package: cn.mops Version: 1.52.0 Command: rm -rf cn.mops.buildbin-libdir && mkdir cn.mops.buildbin-libdir && F:\biocbuild\bbs-3.20-bioc\R\bin\R.exe CMD INSTALL --build --library=cn.mops.buildbin-libdir cn.mops_1.52.0.tar.gz StartedAt: 2025-01-31 08:24:04 -0500 (Fri, 31 Jan 2025) EndedAt: 2025-01-31 08:24:44 -0500 (Fri, 31 Jan 2025) EllapsedTime: 39.6 seconds RetCode: 0 Status: OK PackageFile: cn.mops_1.52.0.zip PackageFileSize: 1.317 MiB