Package: clustifyr Version: 1.18.0 Command: F:\biocbuild\bbs-3.20-bioc\R\bin\R.exe CMD INSTALL clustifyr StartedAt: 2025-01-30 16:24:19 -0500 (Thu, 30 Jan 2025) EndedAt: 2025-01-30 16:25:49 -0500 (Thu, 30 Jan 2025) EllapsedTime: 89.6 seconds RetCode: 0 Status: OK