Package: clustifyr Version: 1.18.0 Command: chmod a+r clustifyr -R && F:\biocbuild\bbs-3.20-bioc\R\bin\R.exe CMD build --keep-empty-dirs --no-resave-data clustifyr StartedAt: 2025-01-30 18:00:24 -0500 (Thu, 30 Jan 2025) EndedAt: 2025-01-30 18:01:59 -0500 (Thu, 30 Jan 2025) EllapsedTime: 94.9 seconds RetCode: 0 Status: OK PackageFile: clustifyr_1.18.0.tar.gz PackageFileSize: 2.789 MiB