Package: clusterStab Version: 1.78.0 Command: /home/biocbuild/R/R/bin/R CMD INSTALL clusterStab StartedAt: 2025-01-30 20:06:39 -0000 (Thu, 30 Jan 2025) EndedAt: 2025-01-30 20:07:02 -0000 (Thu, 30 Jan 2025) EllapsedTime: 23.1 seconds RetCode: 0 Status: OK