Package: clusterStab Version: 1.78.0 Command: F:\biocbuild\bbs-3.20-bioc\R\bin\R.exe CMD INSTALL clusterStab StartedAt: 2025-01-30 15:23:38 -0500 (Thu, 30 Jan 2025) EndedAt: 2025-01-30 15:24:03 -0500 (Thu, 30 Jan 2025) EllapsedTime: 25.1 seconds RetCode: 0 Status: OK