Package: clusterStab Version: 1.78.0 Command: rm -rf clusterStab.buildbin-libdir && mkdir clusterStab.buildbin-libdir && F:\biocbuild\bbs-3.20-bioc\R\bin\R.exe CMD INSTALL --build --library=clusterStab.buildbin-libdir clusterStab_1.78.0.tar.gz StartedAt: 2025-01-31 08:23:48 -0500 (Fri, 31 Jan 2025) EndedAt: 2025-01-31 08:24:01 -0500 (Fri, 31 Jan 2025) EllapsedTime: 13.7 seconds RetCode: 0 Status: OK PackageFile: clusterStab_1.78.0.zip PackageFileSize: 246.2 KiB