Package: clstutils Version: 1.54.0 Command: F:\biocbuild\bbs-3.20-bioc\R\bin\R.exe CMD check --no-multiarch --install=check:clstutils.install-out.txt --library=F:\biocbuild\bbs-3.20-bioc\R\library --no-vignettes --timings clstutils_1.54.0.tar.gz StartedAt: 2025-01-31 00:35:21 -0500 (Fri, 31 Jan 2025) EndedAt: 2025-01-31 00:36:31 -0500 (Fri, 31 Jan 2025) EllapsedTime: 69.6 seconds RetCode: 0 Status: WARNINGS CheckDir: clstutils.Rcheck Warnings: 1