Package: clstutils Version: 1.54.0 Command: /home/biocbuild/bbs-3.20-bioc/R/bin/R CMD INSTALL clstutils StartedAt: 2025-01-30 15:25:43 -0500 (Thu, 30 Jan 2025) EndedAt: 2025-01-30 15:25:48 -0500 (Thu, 30 Jan 2025) EllapsedTime: 4.8 seconds RetCode: 0 Status: OK