Package: clstutils Version: 1.54.0 Command: /Library/Frameworks/R.framework/Resources/bin/R CMD build --keep-empty-dirs --no-resave-data clstutils StartedAt: 2025-01-30 18:00:10 -0500 (Thu, 30 Jan 2025) EndedAt: 2025-01-30 18:01:05 -0500 (Thu, 30 Jan 2025) EllapsedTime: 55.1 seconds RetCode: 0 Status: OK PackageFile: clstutils_1.54.0.tar.gz PackageFileSize: 2.694 MiB