Package: clstutils Version: 1.54.0 Command: /Library/Frameworks/R.framework/Resources/bin/R CMD check --install=check:clstutils.install-out.txt --library=/Library/Frameworks/R.framework/Resources/library --no-vignettes --timings clstutils_1.54.0.tar.gz StartedAt: 2025-01-31 14:39:48 -0500 (Fri, 31 Jan 2025) EndedAt: 2025-01-31 14:40:59 -0500 (Fri, 31 Jan 2025) EllapsedTime: 70.9 seconds RetCode: 0 Status: WARNINGS CheckDir: clstutils.Rcheck Warnings: 1