Package: cliqueMS Version: 1.20.0 Command: /Library/Frameworks/R.framework/Resources/bin/R CMD build --keep-empty-dirs --no-resave-data cliqueMS StartedAt: 2025-01-30 17:59:38 -0500 (Thu, 30 Jan 2025) EndedAt: 2025-01-30 18:03:23 -0500 (Thu, 30 Jan 2025) EllapsedTime: 224.4 seconds RetCode: 0 Status: OK PackageFile: cliqueMS_1.20.0.tar.gz PackageFileSize: 555.8 KiB