Package: cliqueMS Version: 1.20.0 Maintainer: Oriol Senan Campos MaintainerEmail: oriol.senan at praenoscere.com git_url: https://git.bioconductor.org/packages/cliqueMS git_branch: RELEASE_3_20 git_last_commit: 21e7bd1 git_last_commit_date: 2024-10-29 11:33:06 -0500 (Tue, 29 Oct 2024)